Workbook

Sheet エントリーシート（データ入力）
B1: 第12回全国知的障害特別支援学校高等部サッカー選手権大会2026 「もうひとつの高校選手権大会 presented by KOCHO」 | AJ1: 年齢算出基準日
B2: エントリーシート(データ入力用) | AJ2: 46318
B3: チーム情報 | F3: 名前 | Q3: フリガナ（全角カタカナ）
B4: チーム名
B5: 代表者 | AB5: ※苗字と名１マス空ける
B6: ユニフォーム | F6: シャツ | I6: ショーツ | L6: ソックス | O6: ユニフォーム | S6: シャツ | V6: ショーツ | Y6: ソックス
B7: ＦＰ | D7: 正 | H7: 色 | K7: 色 | N7: 色 | O7: ＧＫ | Q7: 正 | U7: 色 | X7: 色 | AA7: 色
D8: 副 | H8: 色 | K8: 色 | N8: 色 | Q8: 副 | U8: 色 | X8: 色 | AA8: 色
B9: チーム連絡先 | F9: 氏名（苗字と名１マス空ける） | M9: フリガナ （全角カタカナで苗字と名１マス空ける） | T9: 担当者携帯電話番号 | AA9: 担当者メールアドレス
B10: 担当者名
B11: 当日来場方法 /来場予定時間 | T11: 例）中型バス１台・自家用車２台 等（車種や台数も）／12:00頃
B12: 役員情報 | F12: 氏名（苗字と名１マス空ける） | M12: フリガナ （全角カタカナで苗字と名１マス空ける） | T12: 男・女
B13: 1 | C13: 監督 | W13: 【エントリーシートの入力について】 ・オレンジ色のセルについては、必ず例のように記入してください。 ・緑セル（てんかん発作）については、該当選手の場合のみ記入になります。 該当する場合は、「○」を記入ください。 これをもって、てんかん発作枠での交代を認めます。 ・選手登録番号も必ず記入してください。 ・エントリーシートに入力されたものが、 「選手名簿」や「メンバー表兼記録用紙」に反映されます。
B14: 2 | C14: コーチ・スタッフ
B15: 3 | C15: コーチ・スタッフ
B16: 4 | C16: コーチ・スタッフ
B17: 5 | C17: コーチ・スタッフ
B18: 6 | C18: コーチ・スタッフ
B19: 選手情報 | F19: 氏名 （苗字と名１マス空ける） | M19: フリガナ （全角カタカナで苗字と名１マス空ける） | T19: 男・女 | V19: 背番号 （大会時） | X19: ポジション ＦＷ・ＭＦ・ＤＦ・ＧＫ | AA19: 生年月日 （例．半角1999/12/22） | AF19: 年齢 (自動計算） | AH19: てんかん 発作 | AJ19: 選手登録番号 （半角）
B20: 1 | C20: 選手 | AF20: =DATEDIF(AA20,AJ$2,"Y") -> 126
B21: 2 | C21: 選手 | AF21: =DATEDIF(AA21,AJ$2,"Y") -> 126
B22: 3 | C22: 選手 | AF22: =DATEDIF(AA22,AJ$2,"Y") -> 126
B23: 4 | C23: 選手 | AF23: =DATEDIF(AA23,AJ$2,"Y") -> 126
B24: 5 | C24: 選手 | AF24: =DATEDIF(AA24,AJ$2,"Y") -> 126
B25: 6 | C25: 選手 | AF25: =DATEDIF(AA25,AJ$2,"Y") -> 126
B26: 7 | C26: 選手 | AF26: =DATEDIF(AA26,AJ$2,"Y") -> 126
B27: 8 | C27: 選手 | AF27: =DATEDIF(AA27,AJ$2,"Y") -> 126
B28: 9 | C28: 選手 | AF28: =DATEDIF(AA28,AJ$2,"Y") -> 126
B29: 10 | C29: 選手 | AF29: =DATEDIF(AA29,AJ$2,"Y") -> 126
B30: 11 | C30: 選手 | AF30: =DATEDIF(AA30,AJ$2,"Y") -> 126
B31: 12 | C31: 選手 | AF31: =DATEDIF(AA31,AJ$2,"Y") -> 126
... B39: 20 | C39: 選手 | AF39: =DATEDIF(AA39,AJ$2,"Y") -> 126

Sheet 選手名簿
B1: 大会名 | E1: ='エントリーシート（データ入力）'!$B$1 -> 第12回全国知的障害特別支援学校高等部サッカー選手権大会2026 「もうひとつの高校選手権大会 presented by KOCHO」 | X1: 選手名簿
B2: チーム名 | E2: ='エントリーシート（データ入力）'!F4 -> 0
B3: チーム代表者 | G3: ユニフォーム | I3: シャツ | K3: ショーツ | M3: ソックス | O3: ユニフォーム | Q3: シャツ | S3: ショーツ | U3: ソックス
B4: ='エントリーシート（データ入力）'!F5 -> 0 | G4: ＦＰ | H4: 正 | I4: ='エントリーシート（データ入力）'!F7 -> 0 | K4: ='エントリーシート（データ入力）'!I7 -> 0 | M4: ='エントリーシート（データ入力）'!L7 -> 0 | O4: ＧＫ | P4: 正 | Q4: ='エントリーシート（データ入力）'!S7 -> 0 | S4: ='エントリーシート（データ入力）'!V7 -> 0 | U4: ='エントリーシート（データ入力）'!Y7 -> 0
H5: 副 | I5: ='エントリーシート（データ入力）'!F8 -> 0 | K5: ='エントリーシート（データ入力）'!I8 -> 0 | M5: ='エントリーシート（データ入力）'!L8 -> 0 | P5: 副 | Q5: ='エントリーシート（データ入力）'!S8 -> 0 | S5: ='エントリーシート（データ入力）'!V8 -> 0 | U5: ='エントリーシート（データ入力）'!Y8 -> 0
B6: No. | C6: 役職 | G6: 氏名 | O6: フリガナ
B7: 1 | C7: 監督 | G7: ='エントリーシート（データ入力）'!F13 -> 0 | O7: ='エントリーシート（データ入力）'!M13 -> 0
B8: 2 | C8: コーチ・スタッフ | G8: ='エントリーシート（データ入力）'!F14 -> 0 | O8: ='エントリーシート（データ入力）'!M14 -> 0
B9: 3 | C9: コーチ・スタッフ | G9: ='エントリーシート（データ入力）'!F15 -> 0 | O9: ='エントリーシート（データ入力）'!M15 -> 0
B10: 4 | C10: コーチ・スタッフ | G10: ='エントリーシート（データ入力）'!F16 -> 0 | O10: ='エントリーシート（データ入力）'!M16 -> 0
B11: 5 | C11: コーチ・スタッフ | G11: ='エントリーシート（データ入力）'!F17 -> 0 | O11: ='エントリーシート（データ入力）'!M17 -> 0
B12: 6 | C12: コーチ・スタッフ | G12: ='エントリーシート（データ入力）'!F18 -> 0 | O12: ='エントリーシート（データ入力）'!M18 -> 0
B13: No. | C13: Pos. | E13: 背番号 | G13: 氏名 | N13: フリガナ | U13: 年齢 | W13: 選手登録番号 | AA13: てんかん 発作
B14: 1 | C14: ='エントリーシート（データ入力）'!X20 -> 0 | E14: ='エントリーシート（データ入力）'!V20 -> 0 | G14: ='エントリーシート（データ入力）'!F20 -> 0 | N14: ='エントリーシート（データ入力）'!M20 -> 0 | U14: ='エントリーシート（データ入力）'!AF20 -> 126 | W14: ='エントリーシート（データ入力）'!AJ20 -> 0 | AA14: ='エントリーシート（データ入力）'!AH20 -> 0
B15: 2 | C15: ='エントリーシート（データ入力）'!X21 -> 0 | E15: ='エントリーシート（データ入力）'!V21 -> 0 | G15: ='エントリーシート（データ入力）'!F21 -> 0 | N15: ='エントリーシート（データ入力）'!M21 -> 0 | U15: ='エントリーシート（データ入力）'!AF21 -> 126 | W15: ='エントリーシート（データ入力）'!AJ21 -> 0 | AA15: ='エントリーシート（データ入力）'!AH21 -> 0
B16: 3 | C16: ='エントリーシート（データ入力）'!X22 -> 0 | E16: ='エントリーシート（データ入力）'!V22 -> 0 | G16: ='エントリーシート（データ入力）'!F22 -> 0 | N16: ='エントリーシート（データ入力）'!M22 -> 0 | U16: ='エントリーシート（データ入力）'!AF22 -> 126 | W16: ='エントリーシート（データ入力）'!AJ22 -> 0 | AA16: ='エントリーシート（データ入力）'!AH22 -> 0
B17: 4 | C17: ='エントリーシート（データ入力）'!X23 -> 0 | E17: ='エントリーシート（データ入力）'!V23 -> 0 | G17: ='エントリーシート（データ入力）'!F23 -> 0 | N17: ='エントリーシート（データ入力）'!M23 -> 0 | U17: ='エントリーシート（データ入力）'!AF23 -> 126 | W17: ='エントリーシート（データ入力）'!AJ23 -> 0 | AA17: ='エントリーシート（データ入力）'!AH23 -> 0
B18: 5 | C18: ='エントリーシート（データ入力）'!X24 -> 0 | E18: ='エントリーシート（データ入力）'!V24 -> 0 | G18: ='エントリーシート（データ入力）'!F24 -> 0 | N18: ='エントリーシート（データ入力）'!M24 -> 0 | U18: ='エントリーシート（データ入力）'!AF24 -> 126 | W18: ='エントリーシート（データ入力）'!AJ24 -> 0 | AA18: ='エントリーシート（データ入力）'!AH24 -> 0
B19: 6 | C19: ='エントリーシート（データ入力）'!X25 -> 0 | E19: ='エントリーシート（データ入力）'!V25 -> 0 | G19: ='エントリーシート（データ入力）'!F25 -> 0 | N19: ='エントリーシート（データ入力）'!M25 -> 0 | U19: ='エントリーシート（データ入力）'!AF25 -> 126 | W19: ='エントリーシート（データ入力）'!AJ25 -> 0 | AA19: ='エントリーシート（データ入力）'!AH25 -> 0
B20: 7 | C20: ='エントリーシート（データ入力）'!X26 -> 0 | E20: ='エントリーシート（データ入力）'!V26 -> 0 | G20: ='エントリーシート（データ入力）'!F26 -> 0 | N20: ='エントリーシート（データ入力）'!M26 -> 0 | U20: ='エントリーシート（データ入力）'!AF26 -> 126 | W20: ='エントリーシート（データ入力）'!AJ26 -> 0 | AA20: ='エントリーシート（データ入力）'!AH26 -> 0
B21: 8 | C21: ='エントリーシート（データ入力）'!X27 -> 0 | E21: ='エントリーシート（データ入力）'!V27 -> 0 | G21: ='エントリーシート（データ入力）'!F27 -> 0 | N21: ='エントリーシート（データ入力）'!M27 -> 0 | U21: ='エントリーシート（データ入力）'!AF27 -> 126 | W21: ='エントリーシート（データ入力）'!AJ27 -> 0 | AA21: ='エントリーシート（データ入力）'!AH27 -> 0
B22: 9 | C22: ='エントリーシート（データ入力）'!X28 -> 0 | E22: ='エントリーシート（データ入力）'!V28 -> 0 | G22: ='エントリーシート（データ入力）'!F28 -> 0 | N22: ='エントリーシート（データ入力）'!M28 -> 0 | U22: ='エントリーシート（データ入力）'!AF28 -> 126 | W22: ='エントリーシート（データ入力）'!AJ28 -> 0 | AA22: ='エントリーシート（データ入力）'!AH28 -> 0
B23: 10 | C23: ='エントリーシート（データ入力）'!X29 -> 0 | E23: ='エントリーシート（データ入力）'!V29 -> 0 | G23: ='エントリーシート（データ入力）'!F29 -> 0 | N23: ='エントリーシート（データ入力）'!M29 -> 0 | U23: ='エントリーシート（データ入力）'!AF29 -> 126 | W23: ='エントリーシート（データ入力）'!AJ29 -> 0 | AA23: ='エントリーシート（データ入力）'!AH29 -> 0
B24: 11 | C24: ='エントリーシート（データ入力）'!X30 -> 0 | E24: ='エントリーシート（データ入力）'!V30 -> 0 | G24: ='エントリーシート（データ入力）'!F30 -> 0 | N24: ='エントリーシート（データ入力）'!M30 -> 0 | U24: ='エントリーシート（データ入力）'!AF30 -> 126 | W24: ='エントリーシート（データ入力）'!AJ30 -> 0 | AA24: ='エントリーシート（データ入力）'!AH30 -> 0
B25: 12 | C25: ='エントリーシート（データ入力）'!X31 -> 0 | E25: ='エントリーシート（データ入力）'!V31 -> 0 | G25: ='エントリーシート（データ入力）'!F31 -> 0 | N25: ='エントリーシート（データ入力）'!M31 -> 0 | U25: ='エントリーシート（データ入力）'!AF31 -> 126 | W25: ='エントリーシート（データ入力）'!AJ31 -> 0 | AA25: ='エントリーシート（データ入力）'!AH31 -> 0
... B33: 20 | C33: ='エントリーシート（データ入力）'!X39 -> 0 | E33: ='エントリーシート（データ入力）'!V39 -> 0 | G33: ='エントリーシート（データ入力）'!F39 -> 0 | N33: ='エントリーシート（データ入力）'!M39 -> 0 | U33: ='エントリーシート（データ入力）'!AF39 -> 126 | W33: ='エントリーシート（データ入力）'!AJ39 -> 0 | AA33: ='エントリーシート（データ入力）'!AH39 -> 0

Sheet メンバー表兼記録用紙
B1: 大会名： | G1: ='エントリーシート（データ入力）'!$B$1 -> 第12回全国知的障害特別支援学校高等部サッカー選手権大会2026 「もうひとつの高校選手権大会 presented by KOCHO」
B2: 会場担当者サイン | M2: 主審サイン | V2: 監督サイン
V3: ='エントリーシート（データ入力）'!$F$13 -> 0
B5: チーム名 | K5: スコア | X5: 対戦チーム名称
B6: ='エントリーシート（データ入力）'!F4 -> 0 | P6: 前半
P7: 後半
P8: 延長前半
P9: 延長後半
P10: PK
B11: ・先発欄に、スターティングメンバーは「○」、交代出場メンバーに「△」、ベンチ外に「×」をつけて下さい。 ・キャプテンは、背番号を「〇」で囲んでください。 ・途中交代選手はには×時間 入場には○時間をつけてください。 ・得点の記録は、チームで得点した順番に1点目を①、2点目を②・・・通し番号で記入してください。 ・ポジション/ＧＫ：ゴールキーパー/ＤＦ：ディフェンダー/ＭＦ：ミッドフィルダー/ＦＷ：フォワード
C17: 先発 | E17: 背番号 | G17: Pos. | I17: 氏名 | M17: フリガナ | Q17: てんかん | R17: 交代 | T17: 得点 | AD17: 警告 | AF17: 退場
R18: ○× | S18: 時間 | T18: 何点目 | U18: 時間 | V18: 何点目 | W18: 時間 | X18: 何点目 | Y18: 時間 | Z18: 何点目 | AA18: 時間 | AB18: 何点目 | AC18: 時間 | AD18: 時間 | AE18: 時間 | AF18: 時間
B19: 1 | E19: ='エントリーシート（データ入力）'!V20 -> 0 | G19: ='エントリーシート（データ入力）'!X20 -> 0 | I19: ='エントリーシート（データ入力）'!F20 -> 0 | M19: ='エントリーシート（データ入力）'!M20 -> 0 | Q19: ='エントリーシート（データ入力）'!AH20 -> 0
B20: 2 | E20: ='エントリーシート（データ入力）'!V21 -> 0 | G20: ='エントリーシート（データ入力）'!X21 -> 0 | I20: ='エントリーシート（データ入力）'!F21 -> 0 | M20: ='エントリーシート（データ入力）'!M21 -> 0 | Q20: ='エントリーシート（データ入力）'!AH21 -> 0
B21: 3 | E21: ='エントリーシート（データ入力）'!V22 -> 0 | G21: ='エントリーシート（データ入力）'!X22 -> 0 | I21: ='エントリーシート（データ入力）'!F22 -> 0 | M21: ='エントリーシート（データ入力）'!M22 -> 0 | Q21: ='エントリーシート（データ入力）'!AH22 -> 0
B22: 4 | E22: ='エントリーシート（データ入力）'!V23 -> 0 | G22: ='エントリーシート（データ入力）'!X23 -> 0 | I22: ='エントリーシート（データ入力）'!F23 -> 0 | M22: ='エントリーシート（データ入力）'!M23 -> 0 | Q22: ='エントリーシート（データ入力）'!AH23 -> 0
B23: 5 | E23: ='エントリーシート（データ入力）'!V24 -> 0 | G23: ='エントリーシート（データ入力）'!X24 -> 0 | I23: ='エントリーシート（データ入力）'!F24 -> 0 | M23: ='エントリーシート（データ入力）'!M24 -> 0 | Q23: ='エントリーシート（データ入力）'!AH24 -> 0
B24: 6 | E24: ='エントリーシート（データ入力）'!V25 -> 0 | G24: ='エントリーシート（データ入力）'!X25 -> 0 | I24: ='エントリーシート（データ入力）'!F25 -> 0 | M24: ='エントリーシート（データ入力）'!M25 -> 0 | Q24: ='エントリーシート（データ入力）'!AH25 -> 0
B25: 7 | E25: ='エントリーシート（データ入力）'!V26 -> 0 | G25: ='エントリーシート（データ入力）'!X26 -> 0 | I25: ='エントリーシート（データ入力）'!F26 -> 0 | M25: ='エントリーシート（データ入力）'!M26 -> 0 | Q25: ='エントリーシート（データ入力）'!AH26 -> 0
B26: 8 | E26: ='エントリーシート（データ入力）'!V27 -> 0 | G26: ='エントリーシート（データ入力）'!X27 -> 0 | I26: ='エントリーシート（データ入力）'!F27 -> 0 | M26: ='エントリーシート（データ入力）'!M27 -> 0 | Q26: ='エントリーシート（データ入力）'!AH27 -> 0
B27: 9 | E27: ='エントリーシート（データ入力）'!V28 -> 0 | G27: ='エントリーシート（データ入力）'!X28 -> 0 | I27: ='エントリーシート（データ入力）'!F28 -> 0 | M27: ='エントリーシート（データ入力）'!M28 -> 0 | Q27: ='エントリーシート（データ入力）'!AH28 -> 0
B28: 10 | E28: ='エントリーシート（データ入力）'!V29 -> 0 | G28: ='エントリーシート（データ入力）'!X29 -> 0 | I28: ='エントリーシート（データ入力）'!F29 -> 0 | M28: ='エントリーシート（データ入力）'!M29 -> 0 | Q28: ='エントリーシート（データ入力）'!AH29 -> 0
B29: 11 | E29: ='エントリーシート（データ入力）'!V30 -> 0 | G29: ='エントリーシート（データ入力）'!X30 -> 0 | I29: ='エントリーシート（データ入力）'!F30 -> 0 | M29: ='エントリーシート（データ入力）'!M30 -> 0 | Q29: ='エントリーシート（データ入力）'!AH30 -> 0
B30: 12 | E30: ='エントリーシート（データ入力）'!V31 -> 0 | G30: ='エントリーシート（データ入力）'!X31 -> 0 | I30: ='エントリーシート（データ入力）'!F31 -> 0 | M30: ='エントリーシート（データ入力）'!M31 -> 0 | Q30: ='エントリーシート（データ入力）'!AH31 -> 0
... B38: 20 | E38: ='エントリーシート（データ入力）'!V39 -> 0 | G38: ='エントリーシート（データ入力）'!X39 -> 0 | I38: ='エントリーシート（データ入力）'!F39 -> 0 | M38: ='エントリーシート（データ入力）'!M39 -> 0 | Q38: ='エントリーシート（データ入力）'!AH39 -> 0
B40: オウンゴール | R40: （備考）
B42: ＰＫ戦記録 | H42: （ 先攻 | J42: ・ | K42: 後攻 ） | M42: どちらかに○
B43: 下記に、成功「○」・失敗「×」の記録を記入する。
B44: キッカー順 | F44: 1 | G44: 2 | H44: 3 | I44: 4 | J44: 5 | K44: 6 | L44: 7 | M44: 8 | N44: 9 | O44: 10 | P44: 11
B45: ○・×
